Workbook

Sheet Intro
A1: Introduction

Sheet Crop Data
A1: Crop Data
A3: Wheat Production ('000 tonnes) | V3: Western Australia, Production
A4: Year | B4: Western Australia | C4: NSW | D4: Victoria | E4: Queens-land | F4: South Australia | G4: Tasmania | H4: Australia | V4: Year | W4: Wheat | X4: Barley | Y4: Canola | Z4: Oats | AA4: Lupins | AB4: Pulses | AC4: Other (All but wheat) | AD4: Total
A5: 2000 | B5: 9004 | C5: 8602 | D5: 2642 | E5: 1904 | F5: 2586 | G5: 20 | H5: =SUM(B5:G5) -> 24758 | W5: '000 tonnes | X5: '000 tonnes | Y5: '000 tonnes | Z5: '000 tonnes | AA5: '000 tonnes | AB5: '000 tonnes | AC5: '000 tonnes | AD5: '000 tonnes
A6: 2001 | B6: 5814 | C6: 7867 | D6: 3080 | E6: 1157 | F6: 4162 | G6: 26 | H6: =SUM(B6:G6) -> 22106 | V6: 2015 | W6: 9200 | X6: 3073 | Y6: 1543 | Z6: 513 | AA6: 452 | AB6: 35 | AC6: =SUM(X6:AB6) -> 5616 | AD6: =W6 + AC6 -> 14816
A7: 2002 | B7: 7760 | C7: 8043 | D7: 2791 | E7: 901 | F7: 4778 | G7: 25 | H7: =SUM(B7:G7) -> 24298 | V7: 2016 | W7: 10165 | X7: 4167 | Y7: 2150 | Z7: 926 | AA7: 714 | AB7: 36 | AC7: =SUM(X7:AB7) -> 7993 | AD7: =W7 + AC7 -> 18158
A8: 2003 | B8: 4047 | C8: 2497 | D8: 890 | E8: 601 | F8: 2072 | G8: 25 | H8: =SUM(B8:G8) -> 10132 | V8: 2017 | W8: 7600 | X8: 3800 | Y8: 1900 | Z8: 480 | AA8: 450 | AB8: 45 | AC8: =SUM(X8:AB8) -> 6675 | AD8: =W8 + AC8 -> 14275
A9: 2004 | B9: 11070 | C9: 7290 | D9: 3145 | E9: 1110 | F9: 3490 | G9: 26 | H9: =SUM(B9:G9) -> 26131 | V9: 2018 | W9: 9690 | X9: 4315 | Y9: 1605 | Z9: 550 | AA9: 595 | AB9: 43 | AC9: =SUM(X9:AB9) -> 7108 | AD9: =W9 + AC9 -> 16798
A10: 2005 | B10: 8619 | C10: 7537 | D10: 1927 | E10: 1170 | F10: 2621 | G10: 30 | H10: =SUM(B10:G10) -> 21904 | V10: 2019 | W10: 5380 | X10: 3980 | Y10: 1090 | Z10: 395 | AA10: 330 | AB10: 33 | AC10: =SUM(X10:AB10) -> 5828 | AD10: =W10 + AC10 -> 11208
A11: 2006 | B11: 9088 | C11: 8049 | D11: 2909 | E11: 1218 | F11: 3853 | G11: 34 | H11: =SUM(B11:G11) -> 25151 | V11: 2020 | W11: 8900 | X11: 4200 | Y11: 1625 | Z11: 585 | AA11: 570 | AB11: 83 | AC11: =SUM(X11:AB11) -> 7063 | AD11: =W11 + AC11 -> 15963
A12: 2007 | B12: 5134 | C12: 2568 | D12: 879 | E12: 777 | F12: 1446 | G12: 18 | H12: =SUM(B12:G12) -> 10822 | V12: 2021 | W12: 12890 | X12: 6370 | Y12: 3130 | Z12: 735 | AA12: 780 | AB12: 104 | AC12: =SUM(X12:AB12) -> 11119 | AD12: =W12 + AC12 -> 24009
A13: 2008 | B13: 5820 | C13: 2477 | D13: 1995 | E13: 954 | F13: 2296 | G13: 27 | H13: =SUM(B13:G13) -> 13569 | V13: 2022 | W13: 12600 | X13: 6150 | Y13: 3980 | Z13: 565 | AA13: 600 | AB13: 72 | AC13: =SUM(X13:AB13) -> 11367 | AD13: =W13 + AC13 -> 23967
A14: 2009 | B14: 8274 | C14: 6963 | D14: 1756 | E14: 2016 | F14: 2376 | G14: 35 | H14: =SUM(B14:G14) -> 21420 | V14: average | W14: =AVERAGE(W6:W13) -> 9553.125 | X14: =AVERAGE(X6:X13) -> 4506.875 | Y14: =AVERAGE(Y6:Y13) -> 2127.875 | Z14: =AVERAGE(Z6:Z13) -> 593.625 | AA14: =AVERAGE(AA6:AA13) -> 561.375 | AB14: =AVERAGE(AB6:AB13) -> 56.375 | AC14: =SUM(X14:AB14) -> 7846.125 | AD14: =W14 + AC14 -> 17399.25
A15: 2010 | B15: 8114 | C15: 5350 | D15: 2995 | E15: 1346 | F15: 4001 | G15: 27 | H15: =SUM(B15:G15) -> 21833
A16: 2011 | B16: 5005 | C16: 10488 | D16: 4412 | E16: 1524 | F16: 5949 | G16: 32 | H16: =SUM(B16:G16) -> 27410
A17: 2012 | B17: 11045 | C17: 8473 | D17: 3943 | E17: 1886 | F17: 4525 | G17: 32 | H17: =SUM(B17:G17) -> 29904
A18: 2013 | B18: 6645 | C18: 7081 | D18: 3460 | E18: 1528 | F18: 3715 | G18: 31 | H18: =SUM(B18:G18) -> 22460
A19: 2014 | B19: 9977 | C19: 6596 | D19: 3396 | E19: 1036 | F19: 4254 | G19: 43 | H19: =SUM(B19:G19) -> 25302
A20: 2015 | B20: 8824 | C20: 6654 | D20: 2631 | E20: 987 | F20: 4602 | G20: 44 | H20: =SUM(B20:G20) -> 23742
A21: 2016 | B21: 8511 | C21: 6898 | D21: 1815 | E21: 1316 | F21: 3679 | G21: 53 | H21: =SUM(B21:G21) -> 22272
A22: 2017 | B22: 9645 | C22: 9819 | D22: 4665 | E22: 1502 | F22: 6133 | G22: 56 | H22: =SUM(B22:G22) -> 31820
A23: 2018 | B23: 7699 | C23: 4703 | D23: 3682 | E23: 765 | F23: 4052 | G23: 0 | H23: =SUM(B23:G23) -> 20901
A24: 2019 | B24: 9979 | C24: 1850 | D24: 2277 | E24: 420 | F24: 3025 | G24: 0 | H24: =SUM(B24:G24) -> 17551
A25: 2020 | B25: 5842 | C25: 1772 | D25: 3714 | E25: 418 | F25: 2689 | G25: 44 | H25: =SUM(B25:G25) -> 14479
A26: 2021 | B26: 8793 | C26: 12972 | D26: 4525 | E26: 1594 | F26: 3982 | G26: 56 | H26: =SUM(B26:G26) -> 31922
A27: 2022 | B27: 12600
A28: avg10 | B28: =AVERAGE(B18:B27) -> 8851.5 | C28: =AVERAGE(C17:C26) -> 6681.8 | D28: =AVERAGE(D17:D26) -> 3410.8 | E28: =AVERAGE(E17:E26) -> 1145.2 | F28: =AVERAGE(F17:F26) -> 4065.6 | G28: =AVERAGE(G17:G26) -> 35.9 | H28: =AVERAGE(H17:H26) -> 24035.3
A30: Wheat Area ('000 hectares)
A31: Year | B31: Western Australia | C31: NSW | D31: Victoria | E31: Queens-land | F31: South Australia | G31: Tasmania | H31: Australia
A32: 2000 | B32: 4556 | C32: 3425 | D32: 1235 | E32: 1096 | F32: 1850 | G32: 6 | H32: =SUM(B32:G32) -> 12168
A33: 2001 | B33: 4460 | C33: 3671 | D33: 1143 | E33: 885 | F33: 1976 | G33: 7 | H33: =SUM(B33:G33) -> 12142
A34: 2002 | B34: 4350 | C34: 3446 | D34: 1136 | E34: 604 | F34: 1987 | G34: 6 | H34: =SUM(B34:G34) -> 11529
A35: 2003 | B35: 4458 | C35: 2995 | D35: 1239 | E35: 514 | F35: 1957 | G35: 7 | H35: =SUM(B35:G35) -> 11170
A36: 2004 | B36: 4917 | C36: 3984 | D36: 1409 | E36: 790 | F36: 1960 | G36: 8 | H36: =SUM(B36:G36) -> 13068
A37: 2005 | B37: 5118 | C37: 4256 | D37: 1327 | E37: 711 | F37: 1979 | G37: 7 | H37: =SUM(B37:G37) -> 13398
A38: 2006 | B38: 4753 | C38: 3554 | D38: 1315 | E38: 778 | F38: 2035 | G38: 8 | H38: =SUM(B38:G38) -> 12443
A39: 2007 | B39: 4037 | C39: 3596 | D39: 1347 | E39: 638 | F39: 2173 | G39: 7 | H39: =SUM(B39:G39) -> 11798
A40: 2008 | B40: 4258 | C40: 4009 | D40: 1514 | E40: 669 | F40: 2121 | G40: 7 | H40: =SUM(B40:G40) -> 12578
A41: 2009 | B41: 4542 | C41: 4322 | D41: 1534 | E41: 1020 | F41: 2104 | G41: 9 | H41: =SUM(B41:G41) -> 13531
A42: 2010 | B42: 5001 | C42: 4098 | D42: 1793 | E42: 984 | F42: 2148 | G42: 7 | H42: =SUM(B42:G42) -> 14031
...

Sheet Frost & Drought Analysis
A1: Frost & Drought Analysis
A3: Summary
C4: Wheat | E4: Barley
C5: AFP | D5: HB4 | E5: AFP
B6: million tonnes | C6: =K29 * 0.001 -> 3.6759871 | D6: =K32 * 0.001 -> 4.326354 | E6: =K41 * 0.001 -> 1.5118349
B7: AUD, billions | C7: =R29 * 0.001 -> 1.3784951 | D7: =R32 * 0.001 -> 1.6223828 | E7: =R41 * 0.001 -> 0.41575461
A9: Yield Loss Due to Frost Damage
B10: No AFP % | C10: With AFP %
A11: Direct | B11: 6 | C11: 1
A12: Indirect | B12: 9 | C12: 1
A13: Total | B13: =B11 + B12 -> 15 | C13: =C11 + C12 -> 2
A15: Yield Loss Due to Drought
B16: No HB4 % | C16: With HB4 %
A17: Total | B17: 20 | C17: 2
A19: Grain Prices
B20: Wheat | C20: Barley
A21: AUD / t | B21: 375 | C21: 275
A23: Wheat
E24: Production ('000 tonnes) | L24: Value (AUD m)
E25: WA | F25: NSW | G25: Vic | H25: Qld | I25: SA | J25: Tas | K25: Australia | L25: WA | M25: NSW | N25: Vic | O25: Qld | P25: SA | Q25: Tas | R25: Australia
A26: 10 year average | E26: ='Crop Data'!B28 -> 8851.5 | F26: ='Crop Data'!C28 -> 6681.8 | G26: ='Crop Data'!D28 -> 3410.8 | H26: ='Crop Data'!E28 -> 1145.2 | I26: ='Crop Data'!F28 -> 4065.6 | J26: ='Crop Data'!G28 -> 35.9 | K26: ='Crop Data'!H28 -> 24035.3 | L26: =E26 * $B$21 * 0.001 -> 3319.3125 | M26: =F26 * $B$21 * 0.001 -> 2505.675 | N26: =G26 * $B$21 * 0.001 -> 1279.05 | O26: =H26 * $B$21 * 0.001 -> 429.45 | P26: =I26 * $B$21 * 0.001 -> 1524.6 | Q26: =J26 * $B$21 * 0.001 -> 13.4625 | R26: =K26 * $B$21 * 0.001 -> 9013.2375
A27: Frost losses, no AFP | E27: =E$26 * $B$13 * 0.01 / (1 - $B$13 * 0.01) -> 1562.0294 | F27: =F$26 * $B$13 * 0.01 / (1 - $B$13 * 0.01) -> 1179.1412 | G27: =G$26 * $B$13 * 0.01 / (1 - $B$13 * 0.01) -> 601.90588 | H27: =H$26 * $B$13 * 0.01 / (1 - $B$13 * 0.01) -> 202.09412 | I27: =I$26 * $B$13 * 0.01 / (1 - $B$13 * 0.01) -> 717.45882 | J27: =J$26 * $B$13 * 0.01 / (1 - $B$13 * 0.01) -> 6.3352941 | K27: =K$26 * $B$13 * 0.01 / (1 - $B$13 * 0.01) -> 4241.5235 | L27: =E27 * $B$21 * 0.001 -> 585.76103 | M27: =F27 * $B$21 * 0.001 -> 442.17794 | N27: =G27 * $B$21 * 0.001 -> 225.71471 | O27: =H27 * $B$21 * 0.001 -> 75.785294 | P27: =I27 * $B$21 * 0.001 -> 269.04706 | Q27: =J27 * $B$21 * 0.001 -> 2.3757353 | R27: =K27 * $B$21 * 0.001 -> 1590.5713
A28: Frost losses, with AFP | E28: =E$26 * $C$13 * 0.01 / (1 - $B$13 * 0.01) -> 208.27059 | F28: =F$26 * $C$13 * 0.01 / (1 - $B$13 * 0.01) -> 157.21882 | G28: =G$26 * $C$13 * 0.01 / (1 - $B$13 * 0.01) -> 80.254118 | H28: =H$26 * $C$13 * 0.01 / (1 - $B$13 * 0.01) -> 26.945882 | I28: =I$26 * $C$13 * 0.01 / (1 - $B$13 * 0.01) -> 95.661176 | J28: =J$26 * $C$13 * 0.01 / (1 - $B$13 * 0.01) -> 0.84470588 | K28: =K$26 * $C$13 * 0.01 / (1 - $B$13 * 0.01) -> 565.53647 | L28: =E28 * $B$21 * 0.001 -> 78.101471 | M28: =F28 * $B$21 * 0.001 -> 58.957059 | N28: =G28 * $B$21 * 0.001 -> 30.095294 | O28: =H28 * $B$21 * 0.001 -> 10.104706 | P28: =I28 * $B$21 * 0.001 -> 35.872941 | Q28: =J28 * $B$21 * 0.001 -> 0.31676471 | R28: =K28 * $B$21 * 0.001 -> 212.07618
A29: Potential savings due to AFP | E29: =E27 - E28 -> 1353.7588 | F29: =F27 - F28 -> 1021.9224 | G29: =G27 - G28 -> 521.65176 | H29: =H27 - H28 -> 175.14824 | I29: =I27 - I28 -> 621.79765 | J29: =J27 - J28 -> 5.4905882 | K29: =K27 - K28 -> 3675.9871 | L29: =L27 - L28 -> 507.65956 | ... R29: =R27 - R28 -> 1378.4951
A30: Drought losses, no HB4 | E30: =E$26 * $B$17 * 0.01 / (1 - $B$17 * 0.01) -> 2212.875 | F30: =F$26 * $B$17 / 100 -> 1336.36 | G30: =G$26 * $B$17 / 100 -> 682.16 | H30: =H$26 * $B$17 / 100 -> 229.04 | I30: =I$26 * $B$17 / 100 -> 813.12 | J30: =J$26 * $B$17 / 100 -> 7.18 | K30: =K$26 * $B$17 / 100 -> 4807.06 | L30: =E30 * $B$21 * 0.001 -> 829.82812 | M30: =F30 * $B$21 * 0.001 -> 501.135 | N30: =G30 * $B$21 * 0.001 -> 255.81 | O30: =H30 * $B$21 * 0.001 -> 85.89 | P30: =I30 * $B$21 * 0.001 -> 304.92 | Q30: =J30 * $B$21 * 0.001 -> 2.6925 | R30: =K30 * $B$21 * 0.001 -> 1802.6475
A31: Drought losses, with HB4 | E31: =E$26 * $C$17 * 0.01 / (1 - $B$17 * 0.01) -> 221.2875 | F31: =F$26 * $C$17 / 100 -> 133.636 | G31: =G$26 * $C$17 / 100 -> 68.216 | H31: =H$26 * $C$17 / 100 -> 22.904 | I31: =I$26 * $C$17 / 100 -> 81.312 | J31: =J$26 * $C$17 / 100 -> 0.718 | K31: =K$26 * $C$17 / 100 -> 480.706 | L31: =E31 * $B$21 * 0.001 -> 82.982813 | M31: =F31 * $B$21 * 0.001 -> 50.1135 | N31: =G31 * $B$21 * 0.001 -> 25.581 | O31: =H31 * $B$21 * 0.001 -> 8.589 | P31: =I31 * $B$21 * 0.001 -> 30.492 | Q31: =J31 * $B$21 * 0.001 -> 0.26925 | R31: =K31 * $B$21 * 0.001 -> 180.26475
A32: Potential savings due to HB4 | E32: =E30 - E31 -> 1991.5875 | F32: =F30 - F31 -> 1202.724 | G32: =G30 - G31 -> 613.944 | H32: =H30 - H31 -> 206.136 | I32: =I30 - I31 -> 731.808 | J32: =J30 - J31 -> 6.462 | K32: =K30 - K31 -> 4326.354 | L32: =L30 - L31 -> 746.84531 | ... R32: =R30 - R31 -> 1622.3828
A33: Potential savings due to AFP and HB4 | E33: =E29 + E32 -> 3345.3463 | F33: =F29 + F32 -> 2224.6464 | G33: =G29 + G32 -> 1135.5958 | H33: =H29 + H32 -> 381.28424 | I33: =I29 + I32 -> 1353.6056 | J33: =J29 + J32 -> 11.952588 | K33: =K29 + K32 -> 8002.3411 | L33: =L29 + L32 -> 1254.5049 | ... R33: =R29 + R32 -> 3000.8779
A35: Barley
E36: Production ('000 tonnes) | L36: Value (AUD m)
E37: WA | F37: NSW | G37: Vic | H37: Qld | I37: SA | J37: Tas | K37: Australia | L37: WA | M37: NSW | N37: Vic | O37: Qld | P37: SA | Q37: Tas | R37: Australia
A38: 10 year average | E38: ='Crop Data'!B109 -> 3966 | F38: ='Crop Data'!C109 -> 1885.9 | G38: ='Crop Data'!D109 -> 2103.8 | H38: ='Crop Data'!E109 -> 242.8 | I38: ='Crop Data'!F109 -> 2002.7 | J38: ='Crop Data'!G109 -> 22.7746 | K38: ='Crop Data'!H109 -> 9885.0746 | L38: =E38 * $C$21 * 0.001 -> 1090.65 | M38: =F38 * $C$21 * 0.001 -> 518.6225 | N38: =G38 * $C$21 * 0.001 -> 578.545 | O38: =H38 * $C$21 * 0.001 -> 66.77 | P38: =I38 * $C$21 * 0.001 -> 550.7425 | Q38: =J38 * $C$21 * 0.001 -> 6.263015 | R38: =K38 * $C$21 * 0.001 -> 2718.3955
A39: Frost losses, no AFP | E39: =E$38 * $B$13 * 0.01 / (1 - $B$13 * 0.01) -> 699.88235 | F39: =F$38 * $B$13 * 0.01 / (1 - $B$13 * 0.01) -> 332.80588 | G39: =G$38 * $B$13 * 0.01 / (1 - $B$13 * 0.01) -> 371.25882 | H39: =H$38 * $B$13 * 0.01 / (1 - $B$13 * 0.01) -> 42.847059 | I39: =I$38 * $B$13 * 0.01 / (1 - $B$13 * 0.01) -> 353.41765 | J39: =J$38 * $B$13 * 0.01 / (1 - $B$13 * 0.01) -> 4.0190471 | K39: =K$38 * $B$13 * 0.01 / (1 - $B$13 * 0.01) -> 1744.4249 | L39: =E39 * $C$21 * 0.001 -> 192.46765 | M39: =F39 * $C$21 * 0.001 -> 91.521618 | N39: =G39 * $C$21 * 0.001 -> 102.09618 | O39: =H39 * $C$21 * 0.001 -> 11.782941 | P39: =I39 * $C$21 * 0.001 -> 97.189853 | Q39: =J39 * $C$21 * 0.001 -> 1.1052379 | R39: =K39 * $C$21 * 0.001 -> 479.71686
A40: Frost losses, with AFP | E40: =E$38 * $C$13 * 0.01 / (1 - $B$13 * 0.01) -> 93.317647 | F40: =F$38 * $C$13 * 0.01 / (1 - $B$13 * 0.01) -> 44.374118 | G40: =G$38 * $C$13 * 0.01 / (1 - $B$13 * 0.01) -> 49.501176 | H40: =H$38 * $C$13 * 0.01 / (1 - $B$13 * 0.01) -> 5.7129412 | I40: =I$38 * $C$13 * 0.01 / (1 - $B$13 * 0.01) -> 47.122353 | J40: =J$38 * $C$13 * 0.01 / (1 - $B$13 * 0.01) -> 0.53587294 | K40: =K$38 * $C$13 * 0.01 / (1 - $B$13 * 0.01) -> 232.58999 | L40: =E40 * $C$21 * 0.001 -> 25.662353 | M40: =F40 * $C$21 * 0.001 -> 12.202882 | N40: =G40 * $C$21 * 0.001 -> 13.612824 | O40: =H40 * $C$21 * 0.001 -> 1.5710588 | P40: =I40 * $C$21 * 0.001 -> 12.958647 | Q40: =J40 * $C$21 * 0.001 -> 0.14736506 | R40: =K40 * $C$21 * 0.001 -> 63.962247
A41: Potential savings due to AFP | E41: =E39 - E40 -> 606.56471 | F41: =F39 - F40 -> 288.43176 | G41: =G39 - G40 -> 321.75765 | H41: =H39 - H40 -> 37.134118 | I41: =I39 - I40 -> 306.29529 | J41: =J39 - J40 -> 3.4831741 | K41: =K39 - K40 -> 1511.8349 | L41: =L39 - L40 -> 166.80529 | ... R41: =R39 - R40 -> 415.75461
A43: Wheat and Barley Combined
E44: Production ('000 tonnes) | L44: Value (AUD m)
E45: WA | F45: NSW | G45: Vic | H45: Qld | I45: SA | J45: Tas | K45: Australia | L45: WA | M45: NSW | N45: Vic | O45: Qld | P45: SA | Q45: Tas | R45: Australia
A46: 10 year average | E46: =E26 + E38 -> 12817.5 | F46: =F26 + F38 -> 8567.7 | G46: =G26 + G38 -> 5514.6 | H46: =H26 + H38 -> 1388 | I46: =I26 + I38 -> 6068.3 | J46: =J26 + J38 -> 58.6746 | K46: =K26 + K38 -> 33920.375 | L46: =L26 + L38 -> 4409.9625 | ... R46: =R26 + R38 -> 11731.633
A47: Frost losses, no AFP | E47: =E27 + E39 -> 2261.9118 | F47: =F27 + F39 -> 1511.9471 | G47: =G27 + G39 -> 973.16471 | H47: =H27 + H39 -> 244.94118 | I47: =I27 + I39 -> 1070.8765 | J47: =J27 + J39 -> 10.354341 | K47: =K27 + K39 -> 5985.9485 | L47: =L27 + L39 -> 778.22868 | ... R47: =R27 + R39 -> 2070.2882
...

Sheet Revenue
A1: Projected Revenue
A3: Summary
A4: Year | B4: Projected Revenue
B5: AUD m/yr
A6: 2024 | B6: =K52 -> 0
A7: 2026 | B7: =K54 -> 2.7640595
A8: 2028 | B8: =K56 -> 38.511675
A9: 2030 | B9: =K58 -> 83.633679
A10: 2032 | B10: =K60 -> 112.20445
A11: 2034 | B11: =K62 -> 133.47744
A13: Assumptions
C14: Annual wheat production | D14: ='Crop Data'!H28 -> 24035.3 | E14: '000 tonnes
C15: Annual barley production | D15: ='Crop Data'!H109 -> 9885.0746 | E15: '000 tonnes
C16: End Point Royalty (EPR) for AFP | D16: 5 | E16: AUD
C17: EPR for HB4 | D17: 10 | E17: AUD
C18: GB share of EPR for HB4 | D18: 5 | E18: AUD
A20: Adoption Curves
G21: 2 | H21: 2 | I21: 2
B22: 1 | C22: 2 | D22: 3 | E22: 4
A23: Year | B23: No-Till | C23: Medium | D23: Mace | E23: Custom | G23: Uptake of AFP in Wheat | H23: Uptake of AFP in Barley | I23: Uptake of HB4 in Wheat
B24: % | C24: % | D24: % | E24: % | G24: % | H24: % | I24: %
A25: 0 | B25: 0 | C25: 0 | D25: 0 | E25: 0 | G25: =OFFSET(A25, 0, $G$21) -> 0 | H25: =OFFSET(A25, 0, $H$21) -> 0 | I25: =OFFSET(A25, 0, $I$21) -> 0
A26: 1 | B26: 0.1 | C26: 2.3 | D26: 4.5 | E26: 0.1 | G26: =OFFSET(A26, 0, $G$21) -> 2.3 | H26: =OFFSET(A26, 0, $H$21) -> 2.3 | I26: =OFFSET(A26, 0, $I$21) -> 2.3
A27: 2 | B27: 0.2 | C27: 9.6 | D27: 19 | E27: 0.2 | G27: =OFFSET(A27, 0, $G$21) -> 9.6 | H27: =OFFSET(A27, 0, $H$21) -> 9.6 | I27: =OFFSET(A27, 0, $I$21) -> 9.6
A28: 3 | B28: 1 | C28: 21.5 | D28: 42 | E28: 0.5 | G28: =OFFSET(A28, 0, $G$21) -> 21.5 | H28: =OFFSET(A28, 0, $H$21) -> 21.5 | I28: =OFFSET(A28, 0, $I$21) -> 21.5
A29: 4 | B29: 2.5 | C29: 28.25 | D29: 54 | E29: 1 | G29: =OFFSET(A29, 0, $G$21) -> 28.25 | H29: =OFFSET(A29, 0, $H$21) -> 28.25 | I29: =OFFSET(A29, 0, $I$21) -> 28.25
A30: 5 | B30: 5 | C30: 32.5 | D30: 60 | E30: 2 | G30: =OFFSET(A30, 0, $G$21) -> 32.5 | H30: =OFFSET(A30, 0, $H$21) -> 32.5 | I30: =OFFSET(A30, 0, $I$21) -> 32.5
A31: 6 | B31: 9 | C31: 38.5 | D31: 68 | E31: 5 | G31: =OFFSET(A31, 0, $G$21) -> 38.5 | H31: =OFFSET(A31, 0, $H$21) -> 38.5 | I31: =OFFSET(A31, 0, $I$21) -> 38.5
A32: 7 | B32: 15 | C32: 41.5 | D32: 68 | E32: 10 | G32: =OFFSET(A32, 0, $G$21) -> 41.5 | H32: =OFFSET(A32, 0, $H$21) -> 41.5 | I32: =OFFSET(A32, 0, $I$21) -> 41.5
A33: 8 | B33: 22 | C33: 45 | D33: 68 | E33: 20 | G33: =OFFSET(A33, 0, $G$21) -> 45 | H33: =OFFSET(A33, 0, $H$21) -> 45 | I33: =OFFSET(A33, 0, $I$21) -> 45
A34: 9 | B34: 30 | C34: 49 | D34: 68 | E34: 30 | G34: =OFFSET(A34, 0, $G$21) -> 49 | H34: =OFFSET(A34, 0, $H$21) -> 49 | I34: =OFFSET(A34, 0, $I$21) -> 49
A35: 10 | B35: 37 | C35: 52.5 | D35: 68 | E35: 40 | G35: =OFFSET(A35, 0, $G$21) -> 52.5 | H35: =OFFSET(A35, 0, $H$21) -> 52.5 | I35: =OFFSET(A35, 0, $I$21) -> 52.5
A36: 11 | B36: 44.5 | C36: 56.25 | D36: 68 | E36: 50 | G36: =OFFSET(A36, 0, $G$21) -> 56.25 | H36: =OFFSET(A36, 0, $H$21) -> 56.25 | I36: =OFFSET(A36, 0, $I$21) -> 56.25
... A44: 19 | B44: 60 | C44: 64 | D44: 68 | E44: 70 | G44: =OFFSET(A44, 0, $G$21) -> 64 | H44: =OFFSET(A44, 0, $H$21) -> 64 | I44: =OFFSET(A44, 0, $I$21) -> 64
F46: First year of adoption | G46: 2026 | H46: 2028 | I46: 2027
A48: Revenue Projection
A49: Year | B49: Uptake of AFP in Wheat | C49: Wheat with AFP | D49: EPR to GB from AFP in Wheat | E49: Uptake of AFP in Barley | F49: Barley with AFP | G49: EPR to GB from AFP in Barley | H49: Uptake of HB4 | I49: Wheat with HB4 | J49: EPR to GB from HB4 in Wheat | K49: Total EPR to GB
B50: % | C50: '000 tonnes | D50: AUD m | E50: % | F50: '000 tonnes | G50: AUD m | H50: % | I50: '000 tonnes | J50: AUD m | K50: AUD m
A51: 2023 | B51: =IF($A51 >= $G$46, OFFSET($G$25, $A51 - $G$46 + 1, 0), 0) -> 0 | C51: =B51 * $D$14 * 0.01 -> 0 | D51: =C51 * $D$16 * 0.001 -> 0 | E51: =IF($A51 >= $H$46, OFFSET($H$25, $A51 - $H$46 + 1, 0), 0) -> 0 | H51: =IF($A51 >= $I$46, OFFSET($I$25, $A51 - $I$46 + 1, 0), 0) -> 0 | I51: =H51 * $D$14 * 0.01 -> 0 | J51: =I51 * $D$18 * 0.001 -> 0 | K51: =D51 + J51 + G51 -> 0
A52: 2024 | B52: =IF($A52 >= $G$46, OFFSET($G$25, $A52 - $G$46 + 1, 0), 0) -> 0 | C52: =B52 * $D$14 * 0.01 -> 0 | D52: =C52 * $D$16 * 0.001 -> 0 | E52: =IF($A52 >= $H$46, OFFSET($H$25, $A52 - $H$46 + 1, 0), 0) -> 0 | H52: =IF($A52 >= $I$46, OFFSET($I$25, $A52 - $I$46 + 1, 0), 0) -> 0 | I52: =H52 * $D$14 * 0.01 -> 0 | J52: =I52 * $D$18 * 0.001 -> 0 | K52: =D52 + J52 + G52 -> 0
...

Sheet Costs
A1: Projected Costs
A3: Annual Costs
A4: Description | E4: Unit Cost | F4: Quantity | G4: Cost
E5: AUD per year or hour | G5: AUD/year
A6: AFP
A7: John Fosu-Nyarko | E7: 120000 | F7: 0.8 | G7: =E7 * F7 -> 96000
A8: PhD student or assistant for John | E8: 100000 | F8: 0.8 | G8: =E8 * F8 -> 80000
A9: Technicans | E9: 80000 | F9: 4 | G9: =E9 * F9 -> 320000
A10: Lab space and equipment | E10: 150000 | F10: 1 | G10: =E10 * F10 -> 150000
A11: Field trials | E11: 30000 | F11: 1 | G11: =E11 * F11 -> 30000
A12: University fee | E12: =SUM(G7:G11) -> 676000 | F12: 0.1 | G12: =E12 * F12 -> 67600
A13: Research or advice: Mike and Jon?? | E13: 120000 | F13: 0.5 | G13: =E13 * F13 -> 60000
G14: =SUM(G7:G12) -> 743600
A16: Licensing
A17: CRISPR | G17: 500000
G18: =SUM(G17:G17) -> 500000
A20: IP
A21: Retain lawyer for strategy advice | G21: 5000
A22: Legal protection of AFP, if it passes trials | G22: 250000
G23: =SUM(G21:G22) -> 255000
A25: Marketing, Sales, EPR
A26: Bill Crabtree: word of mouth, conferences | E26: 120000 | F26: 0.2 | G26: =E26 * F26 -> 24000
A27: Seeds, distribution, EPR/closed loop, marketing | E27: 30000 | F27: 1 | G27: =E27 * F27 -> 30000
A28: Material (website, posters, cards) | G28: 20000
G29: =SUM(G26:G28) -> 74000
A31: Company
A32: Directors | E32: 15000 | F32: 4 | G32: =E32 * F32 -> 60000
A33: Business advisor | E33: 100 | F33: =50 * 4 -> 200 | G33: =E33 * F33 -> 20000
A34: Accountant | G34: 15000
A35: Bookkeeper (Jean) | E35: 30 | F35: =50 * 4 -> 200 | G35: =E35 * F35 -> 6000
G36: =SUM(G32:G35) -> 101000
A38: Total | G38: =G14 + G18 + G23 + G29 + G36 -> 1673600

Sheet Earnings
A1: Projected Earnings
A3: Assumptions
C4: Annual cost escalation | D4: 25 | E4: %
C5: Number of shares | D5: 3.5 | E5: m
C6: Effective corporate tax rate | D6: 25 | E6: %
C7: Discount rate | D7: 8 | E7: %
A9: Profits
A10: Year | B10: Revenue | C10: Costs | D10: Earnings Before Tax | E10: Earnings | F10: EPS | G10: NPV of EPS
B11: AUD m | C11: AUD m | D11: AUD m | E11: AUD m | F11: AUD | G11: AUD
A12: 2023 | B12: =Revenue!K51 -> 0 | C12: =Costs!$G$38 * 0.000001 -> 1.6736 | D12: =B12 - C12 -> -1.6736 | E12: =D12 * IF(D12 <= 0, 1, (1 - $D$6 * 0.01)) -> -1.6736 | F12: =E12 / $D$5 -> -0.47817143 | G12: =(1 - $D$7 * 0.01)^(A12 - 2023) * F12 -> -0.47817143
A13: 2024 | B13: =Revenue!K52 -> 0 | C13: =C12 * (1 + $D$4 * 0.01) -> 2.092 | D13: =B13 - C13 -> -2.092 | E13: =D13 * IF(D13 <= 0, 1, (1 - $D$6 * 0.01)) -> -2.092 | F13: =E13 / $D$5 -> -0.59771429 | G13: =(1 - $D$7 * 0.01)^(A13 - 2023) * F13 -> -0.54989714
A14: 2025 | B14: =Revenue!K53 -> 0 | C14: =C13 * (1 + $D$4 * 0.01) -> 2.615 | D14: =B14 - C14 -> -2.615 | E14: =D14 * IF(D14 <= 0, 1, (1 - $D$6 * 0.01)) -> -2.615 | F14: =E14 / $D$5 -> -0.74714286 | G14: =(1 - $D$7 * 0.01)^(A14 - 2023) * F14 -> -0.63238171
A15: 2026 | B15: =Revenue!K54 -> 2.7640595 | C15: =C14 * (1 + $D$4 * 0.01) -> 3.26875 | D15: =B15 - C15 -> -0.5046905 | E15: =D15 * IF(D15 <= 0, 1, (1 - $D$6 * 0.01)) -> -0.5046905 | F15: =E15 / $D$5 -> -0.14419729 | G15: =(1 - $D$7 * 0.01)^(A15 - 2023) * F15 -> -0.1122847
A16: 2027 | B16: =Revenue!K55 -> 14.301004 | C16: =C15 * (1 + $D$4 * 0.01) -> 4.0859375 | D16: =B16 - C16 -> 10.215066 | E16: =D16 * IF(D16 <= 0, 1, (1 - $D$6 * 0.01)) -> 7.6612995 | F16: =E16 / $D$5 -> 2.1889427 | G16: =(1 - $D$7 * 0.01)^(A16 - 2023) * F16 -> 1.5681432
A17: 2028 | B17: =Revenue!K56 -> 38.511675 | C17: =C16 * (1 + $D$4 * 0.01) -> 5.1074219 | D17: =B17 - C17 -> 33.404253 | E17: =D17 * IF(D17 <= 0, 1, (1 - $D$6 * 0.01)) -> 25.05319 | F17: =E17 / $D$5 -> 7.1580543 | G17: =(1 - $D$7 * 0.01)^(A17 - 2023) * F17 -> 4.7177413
A18: 2029 | B18: =Revenue!K57 -> 64.532645 | C18: =C17 * (1 + $D$4 * 0.01) -> 6.3842773 | D18: =B18 - C18 -> 58.148367 | E18: =D18 * IF(D18 <= 0, 1, (1 - $D$6 * 0.01)) -> 43.611275 | F18: =E18 / $D$5 -> 12.460364 | G18: =(1 - $D$7 * 0.01)^(A18 - 2023) * F18 -> 7.5554043
A19: 2030 | B19: =Revenue!K58 -> 83.633679 | C19: =C18 * (1 + $D$4 * 0.01) -> 7.9803467 | D19: =B19 - C19 -> 75.653332 | E19: =D19 * IF(D19 <= 0, 1, (1 - $D$6 * 0.01)) -> 56.739999 | F19: =E19 / $D$5 -> 16.211428 | G19: =(1 - $D$7 * 0.01)^(A19 - 2023) * F19 -> 9.0434902
A20: 2031 | B20: =Revenue!K59 -> 99.287983 | C20: =C19 * (1 + $D$4 * 0.01) -> 9.9754333 | D20: =B20 - C20 -> 89.31255 | E20: =D20 * IF(D20 <= 0, 1, (1 - $D$6 * 0.01)) -> 66.984412 | F20: =E20 / $D$5 -> 19.138403 | G20: =(1 - $D$7 * 0.01)^(A20 - 2023) * F20 -> 9.8221899
A21: 2032 | B21: =Revenue!K60 -> 112.20445 | C21: =C20 * (1 + $D$4 * 0.01) -> 12.469292 | D21: =B21 - C21 -> 99.735155 | E21: =D21 * IF(D21 <= 0, 1, (1 - $D$6 * 0.01)) -> 74.801366 | F21: =E21 / $D$5 -> 21.371819 | G21: =(1 - $D$7 * 0.01)^(A21 - 2023) * F21 -> 10.090947
A22: 2033 | B22: =Revenue!K61 -> 122.98144 | C22: =C21 * (1 + $D$4 * 0.01) -> 15.586615 | D22: =B22 - C22 -> 107.39483 | E22: =D22 * IF(D22 <= 0, 1, (1 - $D$6 * 0.01)) -> 80.54612 | F22: =E22 / $D$5 -> 23.013177 | G22: =(1 - $D$7 * 0.01)^(A22 - 2023) * F22 -> 9.9966584
A23: 2034 | B23: =Revenue!K62 -> 133.47744 | C23: =C22 * (1 + $D$4 * 0.01) -> 19.483268 | D23: =B23 - C23 -> 113.99417 | E23: =D23 * IF(D23 <= 0, 1, (1 - $D$6 * 0.01)) -> 85.495629 | F23: =E23 / $D$5 -> 24.427322 | G23: =(1 - $D$7 * 0.01)^(A23 - 2023) * F23 -> 9.7620711
A24: 2035 | B24: =Revenue!K63 -> 144.22057 | C24: =C23 * (1 + $D$4 * 0.01) -> 24.354085 | D24: =B24 - C24 -> 119.86648 | E24: =D24 * IF(D24 <= 0, 1, (1 - $D$6 * 0.01)) -> 89.89986 | F24: =E24 / $D$5 -> 25.685674 | G24: =(1 - $D$7 * 0.01)^(A24 - 2023) * F24 -> 9.4437591
... A31: 2042 | B31: =Revenue!K70 -> 181.7584 | C31: =C30 * (1 + $D$4 * 0.01) -> 116.12933 | D31: =B31 - C31 -> 65.629076 | E31: =D31 * IF(D31 <= 0, 1, (1 - $D$6 * 0.01)) -> 49.221807 | F31: =E31 / $D$5 -> 14.063373 | G31: =(1 - $D$7 * 0.01)^(A31 - 2023) * F31 -> 2.8844182
A33: Share Valuation, by Earnings per Share
A34: Earnings per share, 2028 - 2030 | D34: =AVERAGE(F17:F19) -> 11.943282 | E34: AUD
A35: PE ratio | D35: 20
A36: Chances of achieving earnings | D36: 10 | E36: %
A37: Discount seven years forward | D37: =(1 - $D$7 * 0.01)^7 -> 0.5578466
A38: Tentative GB share price now | D38: =D34 * D35 * (D36 * 0.01) * D37 -> 13.325039 | E38: AUD
A39: Market cap | D39: =D38 * $D$5 / 0.49 -> 95.178849 | E39: AUD m
A41: Share Valuation, by Comparison to Bioceres
A42: Bioceres revenue 2022 | D42: =500 * 1.4 -> 700 | E42: AUD m
A43: Bioceres number of shares 2022 | D43: 63 | E43: m
A44: Bioceres revenue per share | D44: =D42 / D43 -> 11.111111 | E44: AUD
A45: Bioceres share price 2022 | D45: =14 * 1.4 -> 19.6 | E45: AUD
A46: Bioceres revenue multiple | D46: =D45 / D44 -> 1.764
A47: Bioceres market cap | D47: =D43 * D45 -> 1234.8 | E47: AUD m
A49: GB revenue, 2028 - 2030 | D49: =AVERAGE(B17:B19) -> 62.226 | E49: AUD m
A50: GB number of shares | D50: =D5 -> 3.5 | E50: m
A51: GB revenue per share | D51: =D49 / D50 -> 17.778857 | E51: AUD
...
